BEGIN:VCALENDAR
VERSION:2.0
PRODID:-//eventon.com NONSGML v1.0//EN
CALSCALE:GREGORIAN
METHOD:PUBLISH
BEGIN:VEVENT
UID:69ea1efa9c7e2
DTSTAMP:20260423T133034Z
DTSTART:20250508T180000Z
DTEND:20250508T190000Z
LOCATION:Nordic Center 23 N Lake Ave
SUMMARY:Book Club
DESCRIPTION:\nhttps://nordiccenterduluth.org/events/book-club/var/ri-7.l-L1
URL:https://nordiccenterduluth.org/events/book-club/var/ri-7.l-L1
END:VEVENT
END:VCALENDAR