BEGIN:VCALENDAR
VERSION:2.0
PRODID:-//eventon.com NONSGML v1.0//EN
CALSCALE:GREGORIAN
METHOD:PUBLISH
BEGIN:VEVENT
UID:69ea1f3ad4f6f
DTSTAMP:20260423T133138Z
DTSTART:20250411T230000Z
DTEND:20250412T020000Z
LOCATION:Nordic Center 23 N Lake Ave
SUMMARY:April showers\,  May flowers! OPENING
DESCRIPTION:\nhttps://nordiccenterduluth.org/events/april-showers-may-flowe
 rs-opening/
URL:https://nordiccenterduluth.org/events/april-showers-may-flowers-opening/
END:VEVENT
END:VCALENDAR