BEGIN:VCALENDAR
VERSION:2.0
PRODID:-//eventon.com NONSGML v1.0//EN
CALSCALE:GREGORIAN
METHOD:PUBLISH
BEGIN:VEVENT
UID:69ea1f838e905
DTSTAMP:20260423T133251Z
DTSTART:20250531T170000Z
DTEND:20250531T210000Z
LOCATION:Nordic Center 23 N Lake Ave
SUMMARY:April showers\,  May flowers! CLOSING
DESCRIPTION:\nhttps://nordiccenterduluth.org/events/april-showers-may-flowe
 rs-closing/
URL:https://nordiccenterduluth.org/events/april-showers-may-flowers-closing/
END:VEVENT
END:VCALENDAR