BEGIN:VCALENDAR
VERSION:2.0
PRODID:-//eventon.com NONSGML v1.0//EN
CALSCALE:GREGORIAN
METHOD:PUBLISH
BEGIN:VEVENT
UID:69ea1f825626a
DTSTAMP:20260423T133250Z
DTSTART:20250509T000000Z
DTEND:20250509T020000Z
LOCATION:Norway Hall Event Center 21 N LAKE AVE
SUMMARY:Northern DeLights Dessert Auction Fundraiser
DESCRIPTION:\nhttps://nordiccenterduluth.org/events/northern-delights-desse
 rt-auction-fundraiser/
URL:https://nordiccenterduluth.org/events/northern-delights-dessert-auction-fundraiser/
END:VEVENT
END:VCALENDAR