BEGIN:VCALENDAR
VERSION:2.0
PRODID:-//eventon.com NONSGML v1.0//EN
CALSCALE:GREGORIAN
METHOD:PUBLISH
BEGIN:VEVENT
UID:69ea1f968cb38
DTSTAMP:20260423T133310Z
DTSTART:20250412T180000Z
DTEND:20250412T200000Z
LOCATION:Nordic Center 23 N Lake Ave
SUMMARY:Workshops with Sara Pajunen
DESCRIPTION:\nhttps://nordiccenterduluth.org/events/workshops-with-sara-paj
 unen/
URL:https://nordiccenterduluth.org/events/workshops-with-sara-pajunen/
END:VEVENT
END:VCALENDAR