BEGIN:VCALENDAR
VERSION:2.0
PRODID:-//eventon.com NONSGML v1.0//EN
CALSCALE:GREGORIAN
METHOD:PUBLISH
BEGIN:VEVENT
UID:69ea1f6427d56
DTSTAMP:20260423T133220Z
DTSTART:20250413T180000Z
DTEND:20250413T200000Z
LOCATION:Nordic Center 23 N Lake Ave
SUMMARY:Workshops with Sara Pajunen
DESCRIPTION:\nhttps://nordiccenterduluth.org/events/workshops-with-sara-paj
 unen/var/ri-1.l-L1
URL:https://nordiccenterduluth.org/events/workshops-with-sara-pajunen/var/ri-1.l-L1
END:VEVENT
END:VCALENDAR