BEGIN:VCALENDAR
VERSION:2.0
PRODID:-//eventon.com NONSGML v1.0//EN
CALSCALE:GREGORIAN
METHOD:PUBLISH
BEGIN:VEVENT
UID:69ea1f970f7bd
DTSTAMP:20260423T133311Z
DTSTART:20250613T160000Z
DTEND:20250614T043000Z
LOCATION:Weber Music Hall 1151 University Dr.
SUMMARY:Duluth-stämman 2025
DESCRIPTION:\nhttps://nordiccenterduluth.org/events/duluth-stamman-2025/
URL:https://nordiccenterduluth.org/events/duluth-stamman-2025/
END:VEVENT
END:VCALENDAR