BEGIN:VCALENDAR
VERSION:2.0
PRODID:-//eventon.com NONSGML v1.0//EN
CALSCALE:GREGORIAN
METHOD:PUBLISH
BEGIN:VEVENT
UID:69ea1f59156df
DTSTAMP:20260423T133209Z
DTSTART:20250614T134500Z
DTEND:20250615T040000Z
LOCATION:Weber Music Hall 1151 University Dr.
SUMMARY:Duluth-stämman 2025
DESCRIPTION:\nhttps://nordiccenterduluth.org/events/duluth-stamman-2025-2/
URL:https://nordiccenterduluth.org/events/duluth-stamman-2025-2/
END:VEVENT
END:VCALENDAR