BEGIN:VCALENDAR
VERSION:2.0
PRODID:-//eventon.com NONSGML v1.0//EN
CALSCALE:GREGORIAN
METHOD:PUBLISH
BEGIN:VEVENT
UID:69ea1f63678f0
DTSTAMP:20260423T133219Z
DTSTART:20250612T230000Z
DTEND:20250613T020000Z
LOCATION:Bent Paddle Brewing 1832 W Michigan St
SUMMARY:Pre-stämma Jam
DESCRIPTION:\nhttps://nordiccenterduluth.org/events/pre-stamma-jam/
URL:https://nordiccenterduluth.org/events/pre-stamma-jam/
END:VEVENT
END:VCALENDAR