BEGIN:VCALENDAR
VERSION:2.0
PRODID:-//eventon.com NONSGML v1.0//EN
CALSCALE:GREGORIAN
METHOD:PUBLISH
BEGIN:VEVENT
UID:69ea1f5a13619
DTSTAMP:20260423T133210Z
DTSTART:20250614T090000Z
DTEND:20250614T100000Z
LOCATION:
SUMMARY:Yoga Nidra with Lily Amiteria
DESCRIPTION:\nhttps://nordiccenterduluth.org/events/yoga-nidra-with-lily-am
 iteria/
URL:https://nordiccenterduluth.org/events/yoga-nidra-with-lily-amiteria/
END:VEVENT
END:VCALENDAR