BEGIN:VCALENDAR
VERSION:2.0
PRODID:-//eventon.com NONSGML v1.0//EN
CALSCALE:GREGORIAN
METHOD:PUBLISH
BEGIN:VEVENT
UID:69ea1f5909871
DTSTAMP:20260423T133209Z
DTSTART:20250628T080000Z
DTEND:20250628T120000Z
LOCATION:
SUMMARY:Meditation Retreat with Lisa McKhann
DESCRIPTION:\nhttps://nordiccenterduluth.org/events/meditation-retreat/
URL:https://nordiccenterduluth.org/events/meditation-retreat/
END:VEVENT
END:VCALENDAR