BEGIN:VCALENDAR
VERSION:2.0
PRODID:-//eventon.com NONSGML v1.0//EN
CALSCALE:GREGORIAN
METHOD:PUBLISH
BEGIN:VEVENT
UID:69ea1f079a686
DTSTAMP:20260423T133047Z
DTSTART:20250711T090000Z
DTEND:20250711T100000Z
LOCATION:
SUMMARY:Restorative yoga with Paula Gudmundson
DESCRIPTION:\nhttps://nordiccenterduluth.org/events/restorative-yoga-with-p
 aula-gudmundson/
URL:https://nordiccenterduluth.org/events/restorative-yoga-with-paula-gudmundson/
END:VEVENT
END:VCALENDAR