BEGIN:VCALENDAR
VERSION:2.0
PRODID:-//eventon.com NONSGML v1.0//EN
CALSCALE:GREGORIAN
METHOD:PUBLISH
BEGIN:VEVENT
UID:69ea1f02ebd58
DTSTAMP:20260423T133042Z
DTSTART:20250712T090000Z
DTEND:20250712T100000Z
LOCATION:
SUMMARY:Restorative yoga with Paula Gudmundson
DESCRIPTION:\nhttps://nordiccenterduluth.org/events/restorative-yoga-with-p
 aula-gudmundson/var/ri-1.l-L1
URL:https://nordiccenterduluth.org/events/restorative-yoga-with-paula-gudmundson/var/ri-1.l-L1
END:VEVENT
END:VCALENDAR