BEGIN:VCALENDAR
VERSION:2.0
PRODID:-//eventon.com NONSGML v1.0//EN
CALSCALE:GREGORIAN
METHOD:PUBLISH
BEGIN:VEVENT
UID:69ea1f5991551
DTSTAMP:20260423T133209Z
DTSTART:20250731T160000Z
DTEND:20250731T183000Z
LOCATION:Nordic Center 23 N Lake Ave
SUMMARY:Encountering the Invisible • Opening Reception
DESCRIPTION:\nhttps://nordiccenterduluth.org/events/encountering-the-invisi
 ble-opening-reception/
URL:https://nordiccenterduluth.org/events/encountering-the-invisible-opening-reception/
END:VEVENT
END:VCALENDAR