BEGIN:VCALENDAR
VERSION:2.0
PRODID:-//eventon.com NONSGML v1.0//EN
CALSCALE:GREGORIAN
METHOD:PUBLISH
BEGIN:VEVENT
UID:69ea1f0601fff
DTSTAMP:20260423T133046Z
DTSTART:20250905T230000Z
DTEND:20250906T013000Z
LOCATION:Nordic Center 23 N Lake Ave
SUMMARY:Weaving Ancestry: OPENING RECEPTION
DESCRIPTION:\nhttps://nordiccenterduluth.org/events/weaving-ancestry-openin
 g-reception/
URL:https://nordiccenterduluth.org/events/weaving-ancestry-opening-reception/
END:VEVENT
END:VCALENDAR