BEGIN:VCALENDAR
VERSION:2.0
PRODID:-//eventon.com NONSGML v1.0//EN
CALSCALE:GREGORIAN
METHOD:PUBLISH
BEGIN:VEVENT
UID:69ea1f3e0a814
DTSTAMP:20260423T133142Z
DTSTART:20251003T230000Z
DTEND:20251004T010000Z
LOCATION:Nordic Center 23 N Lake Ave
SUMMARY:Weaving Ancestry: Artist Presentation
DESCRIPTION:\nhttps://nordiccenterduluth.org/events/weaving-ancestry-artist
 -presentation/
URL:https://nordiccenterduluth.org/events/weaving-ancestry-artist-presentation/
END:VEVENT
END:VCALENDAR