BEGIN:VCALENDAR
VERSION:2.0
PRODID:-//eventon.com NONSGML v1.0//EN
CALSCALE:GREGORIAN
METHOD:PUBLISH
BEGIN:VEVENT
UID:69ea1f5b03612
DTSTAMP:20260423T133211Z
DTSTART:20251004T180000Z
DTEND:20251004T200000Z
LOCATION:Duluth Public Library (main) 520 W Superior St
SUMMARY:Weaving Ancestry: Making a Willow Brigid’s Cross
DESCRIPTION:\nhttps://nordiccenterduluth.org/events/weaving-ancestry-making
 -a-willow-brigids-cross/
URL:https://nordiccenterduluth.org/events/weaving-ancestry-making-a-willow-brigids-cross/
END:VEVENT
END:VCALENDAR