BEGIN:VCALENDAR
VERSION:2.0
PRODID:-//eventon.com NONSGML v1.0//EN
CALSCALE:GREGORIAN
METHOD:PUBLISH
BEGIN:VEVENT
UID:69ea1f337a1d7
DTSTAMP:20260423T133131Z
DTSTART:20251010T000000Z
DTEND:20251010T020000Z
LOCATION:Nordic Center 23 N Lake Ave
SUMMARY:Restauration: The Norwegian Mayflower
DESCRIPTION:\nhttps://nordiccenterduluth.org/events/restauration-the-norweg
 ian-mayflower/
URL:https://nordiccenterduluth.org/events/restauration-the-norwegian-mayflower/
END:VEVENT
END:VCALENDAR