BEGIN:VCALENDAR
VERSION:2.0
PRODID:-//eventon.com NONSGML v1.0//EN
CALSCALE:GREGORIAN
METHOD:PUBLISH
BEGIN:VEVENT
UID:69ea1f64b6de0
DTSTAMP:20260423T133220Z
DTSTART:20250920T200000Z
DTEND:20250920T220000Z
LOCATION:Nordic Center 23 N Lake Ave
SUMMARY:They Sowed Goodness
DESCRIPTION:\nhttps://nordiccenterduluth.org/events/kristbjorg-eide-book-la
 unch/
URL:https://nordiccenterduluth.org/events/kristbjorg-eide-book-launch/
END:VEVENT
END:VCALENDAR