BEGIN:VCALENDAR
VERSION:2.0
PRODID:-//eventon.com NONSGML v1.0//EN
CALSCALE:GREGORIAN
METHOD:PUBLISH
BEGIN:VEVENT
UID:69ea1f3be69b6
DTSTAMP:20260423T133139Z
DTSTART:20251122T003000Z
DTEND:20251122T020000Z
LOCATION:Nordic Center 23 N Lake Ave
SUMMARY:Pepperkakebyen 2025 Gingerbread City
DESCRIPTION:\nhttps://nordiccenterduluth.org/events/pepperkakebye-2025-ging
 erbread-city/
URL:https://nordiccenterduluth.org/events/pepperkakebye-2025-gingerbread-city/
END:VEVENT
END:VCALENDAR