BEGIN:VCALENDAR
VERSION:2.0
PRODID:-//eventon.com NONSGML v1.0//EN
CALSCALE:GREGORIAN
METHOD:PUBLISH
BEGIN:VEVENT
UID:69ea1f0698db5
DTSTAMP:20260423T133046Z
DTSTART:20251109T200000Z
DTEND:20251109T220000Z
LOCATION:
SUMMARY:Pepperkakebyen Workshop
DESCRIPTION:\nhttps://nordiccenterduluth.org/events/pepperkakebyen-workshop
 /
URL:https://nordiccenterduluth.org/events/pepperkakebyen-workshop/
END:VEVENT
END:VCALENDAR