BEGIN:VCALENDAR
VERSION:2.0
PRODID:-//eventon.com NONSGML v1.0//EN
CALSCALE:GREGORIAN
METHOD:PUBLISH
BEGIN:VEVENT
UID:69ea1f2c7205c
DTSTAMP:20260423T133124Z
DTSTART:20251009T180000Z
DTEND:20251009T190000Z
LOCATION:Nordic Center 23 N Lake Ave
SUMMARY:Book Club
DESCRIPTION:\nhttps://nordiccenterduluth.org/events/book-club-25-26/
URL:https://nordiccenterduluth.org/events/book-club-25-26/
END:VEVENT
END:VCALENDAR