BEGIN:VCALENDAR
VERSION:2.0
PRODID:-//eventon.com NONSGML v1.0//EN
CALSCALE:GREGORIAN
METHOD:PUBLISH
BEGIN:VEVENT
UID:69ea1f02178a3
DTSTAMP:20260423T133042Z
DTSTART:20251106T190000Z
DTEND:20251106T200000Z
LOCATION:Nordic Center 23 N Lake Ave
SUMMARY:Book Club
DESCRIPTION:\nhttps://nordiccenterduluth.org/events/book-club-25-26/var/ri-
 1.l-L1
URL:https://nordiccenterduluth.org/events/book-club-25-26/var/ri-1.l-L1
END:VEVENT
END:VCALENDAR