BEGIN:VCALENDAR
VERSION:2.0
PRODID:-//eventon.com NONSGML v1.0//EN
CALSCALE:GREGORIAN
METHOD:PUBLISH
BEGIN:VEVENT
UID:69ea1efaa20fe
DTSTAMP:20260423T133034Z
DTSTART:20251211T190000Z
DTEND:20251211T200000Z
LOCATION:Nordic Center 23 N Lake Ave
SUMMARY:Book Club
DESCRIPTION:\nhttps://nordiccenterduluth.org/events/book-club-25-26/var/ri-
 2.l-L1
URL:https://nordiccenterduluth.org/events/book-club-25-26/var/ri-2.l-L1
END:VEVENT
END:VCALENDAR