BEGIN:VCALENDAR
VERSION:2.0
PRODID:-//eventon.com NONSGML v1.0//EN
CALSCALE:GREGORIAN
METHOD:PUBLISH
BEGIN:VEVENT
UID:69ea1f071b6e5
DTSTAMP:20260423T133047Z
DTSTART:20260212T190000Z
DTEND:20260212T200000Z
LOCATION:Nordic Center 23 N Lake Ave
SUMMARY:Book Club
DESCRIPTION:\nhttps://nordiccenterduluth.org/events/book-club-25-26/var/ri-
 4.l-L1
URL:https://nordiccenterduluth.org/events/book-club-25-26/var/ri-4.l-L1
END:VEVENT
END:VCALENDAR