BEGIN:VCALENDAR
VERSION:2.0
PRODID:-//eventon.com NONSGML v1.0//EN
CALSCALE:GREGORIAN
METHOD:PUBLISH
BEGIN:VEVENT
UID:69ea1f2e06634
DTSTAMP:20260423T133126Z
DTSTART:20260305T190000Z
DTEND:20260305T200000Z
LOCATION:Nordic Center 23 N Lake Ave
SUMMARY:Book Club
DESCRIPTION:\nhttps://nordiccenterduluth.org/events/book-club-25-26/var/ri-
 5.l-L1
URL:https://nordiccenterduluth.org/events/book-club-25-26/var/ri-5.l-L1
END:VEVENT
END:VCALENDAR