BEGIN:VCALENDAR
VERSION:2.0
PRODID:-//eventon.com NONSGML v1.0//EN
CALSCALE:GREGORIAN
METHOD:PUBLISH
BEGIN:VEVENT
UID:69ea0016038bf
DTSTAMP:20260423T111846Z
DTSTART:20260514T180000Z
DTEND:20260514T190000Z
LOCATION:Nordic Center 23 N Lake Ave
SUMMARY:Book Club
DESCRIPTION:\nhttps://nordiccenterduluth.org/events/book-club-25-26/var/ri-
 7.l-L1
URL:https://nordiccenterduluth.org/events/book-club-25-26/var/ri-7.l-L1
END:VEVENT
END:VCALENDAR