BEGIN:VCALENDAR
VERSION:2.0
PRODID:-//eventon.com NONSGML v1.0//EN
CALSCALE:GREGORIAN
METHOD:PUBLISH
BEGIN:VEVENT
UID:69ea1f845c8bf
DTSTAMP:20260423T133252Z
DTSTART:20251029T233000Z
DTEND:20251030T010000Z
LOCATION:Nordic Center 23 N Lake Ave
SUMMARY:Learn Beginner Norwegian with Bjorn Killerud
DESCRIPTION:\nhttps://nordiccenterduluth.org/events/learn-beginner-norwegia
 n-with-bjorn-killerud-fall/
URL:https://nordiccenterduluth.org/events/learn-beginner-norwegian-with-bjorn-killerud-fall/
END:VEVENT
END:VCALENDAR