BEGIN:VCALENDAR
VERSION:2.0
PRODID:-//eventon.com NONSGML v1.0//EN
CALSCALE:GREGORIAN
METHOD:PUBLISH
BEGIN:VEVENT
UID:69ea1f0272287
DTSTAMP:20260423T133042Z
DTSTART:20251218T003000Z
DTEND:20251218T020000Z
LOCATION:Nordic Center 23 N Lake Ave
SUMMARY:Learn Beginner Norwegian with Bjorn Killerud
DESCRIPTION:\nhttps://nordiccenterduluth.org/events/learn-beginner-norwegia
 n-with-bjorn-killerud-fall/var/ri-7.l-L1
URL:https://nordiccenterduluth.org/events/learn-beginner-norwegian-with-bjorn-killerud-fall/var/ri-7.l-L1
END:VEVENT
END:VCALENDAR