BEGIN:VCALENDAR
VERSION:2.0
PRODID:-//eventon.com NONSGML v1.0//EN
CALSCALE:GREGORIAN
METHOD:PUBLISH
BEGIN:VEVENT
UID:69ea1f038c564
DTSTAMP:20260423T133043Z
DTSTART:20251120
DTEND:20251121
LOCATION:
SUMMARY:Give to the MAX day 2025
DESCRIPTION:\nhttps://nordiccenterduluth.org/events/give-to-the-max-day-202
 5/
URL:https://nordiccenterduluth.org/events/give-to-the-max-day-2025/
END:VEVENT
END:VCALENDAR