BEGIN:VCALENDAR
VERSION:2.0
PRODID:-//eventon.com NONSGML v1.0//EN
CALSCALE:GREGORIAN
METHOD:PUBLISH
BEGIN:VEVENT
UID:69ea1f2ddc06f
DTSTAMP:20260423T133125Z
DTSTART:20260307T000000Z
DTEND:20260307T030000Z
LOCATION:Nordic Center 23 N Lake Ave
SUMMARY:Signs of Spring
DESCRIPTION:\nhttps://nordiccenterduluth.org/events/signs-of-spring-exhibit
 ion/
URL:https://nordiccenterduluth.org/events/signs-of-spring-exhibition/
END:VEVENT
END:VCALENDAR