BEGIN:VCALENDAR
VERSION:2.0
PRODID:-//eventon.com NONSGML v1.0//EN
CALSCALE:GREGORIAN
METHOD:PUBLISH
BEGIN:VEVENT
UID:69ea001036dbc
DTSTAMP:20260423T111840Z
DTSTART:20260429T233000Z
DTEND:20260430T010000Z
LOCATION:Nordic Center 23 N Lake Ave
SUMMARY:Intermediate Norwegian with Bjorn Killerud
DESCRIPTION:\nhttps://nordiccenterduluth.org/events/intermediate-norwegian-
 with-bjorn-killerud-spring-26/var/ri-2.l-L1
URL:https://nordiccenterduluth.org/events/intermediate-norwegian-with-bjorn-killerud-spring-26/var/ri-2.l-L1
END:VEVENT
END:VCALENDAR