BEGIN:VCALENDAR
VERSION:2.0
PRODID:-//eventon.com NONSGML v1.0//EN
CALSCALE:GREGORIAN
METHOD:PUBLISH
BEGIN:VEVENT
UID:69ea000c6757a
DTSTAMP:20260423T111836Z
DTSTART:20260513T233000Z
DTEND:20260514T010000Z
LOCATION:Nordic Center 23 N Lake Ave
SUMMARY:Intermediate Norwegian with Bjorn Killerud
DESCRIPTION:\nhttps://nordiccenterduluth.org/events/intermediate-norwegian-
 with-bjorn-killerud-spring-26/var/ri-4.l-L1
URL:https://nordiccenterduluth.org/events/intermediate-norwegian-with-bjorn-killerud-spring-26/var/ri-4.l-L1
END:VEVENT
END:VCALENDAR