BEGIN:VCALENDAR
VERSION:2.0
PRODID:-//eventon.com NONSGML v1.0//EN
CALSCALE:GREGORIAN
METHOD:PUBLISH
BEGIN:VEVENT
UID:69ea001a53b41
DTSTAMP:20260423T111850Z
DTSTART:20260612
DTEND:20260613
LOCATION:
SUMMARY:Duluth-Stämman 2026
DESCRIPTION:\nhttps://nordiccenterduluth.org/events/duluth-stamman-2026-1/
URL:https://nordiccenterduluth.org/events/duluth-stamman-2026-1/
END:VEVENT
END:VCALENDAR