BEGIN:VCALENDAR
VERSION:2.0
PRODID:-//eventon.com NONSGML v1.0//EN
CALSCALE:GREGORIAN
METHOD:PUBLISH
BEGIN:VEVENT
UID:69ea1efb6c6fd
DTSTAMP:20260423T133035Z
DTSTART:20260613
DTEND:20260614
LOCATION:
SUMMARY:Duluth-Stämman 2026
DESCRIPTION:\nhttps://nordiccenterduluth.org/events/duluth-stamman-2026-2/
URL:https://nordiccenterduluth.org/events/duluth-stamman-2026-2/
END:VEVENT
END:VCALENDAR