BEGIN:VCALENDAR
VERSION:2.0
PRODID:-//eventon.com NONSGML v1.0//EN
CALSCALE:GREGORIAN
METHOD:PUBLISH
BEGIN:VEVENT
UID:69ea1f83c6529
DTSTAMP:20260423T133251Z
DTSTART:20260329T180000Z
DTEND:20260329T220000Z
LOCATION:Nordic Center 23 N Lake Ave
SUMMARY:Nordic Folk Music Hang!
DESCRIPTION:Calling Young Musicians: Nordic Folk Music Hang! Sunday\,  Marc
 h 29th / 1 &#8211; 5 PM Come on down for an afternoon of FREE Nordic worksh
 ops\,  performances\,  and jam sessions for young musicians at The Nordic C
 enter of Duluth\,  23 N Lake Avenue. Learn tunes and make new friends. Fres
 h off[..]\nhttps://nordiccenterduluth.org/events/nordic-folk-music-hang/
URL:https://nordiccenterduluth.org/events/nordic-folk-music-hang/
END:VEVENT
END:VCALENDAR