BEGIN:VCALENDAR
VERSION:2.0
PRODID:-//eventon.com NONSGML v1.0//EN
CALSCALE:GREGORIAN
METHOD:PUBLISH
BEGIN:VEVENT
UID:69ea001782a5f
DTSTAMP:20260423T111847Z
DTSTART:20260509T190000Z
DTEND:20260509T210000Z
LOCATION:Nordic Center 23 N Lake Ave
SUMMARY:Traditional Norwegian Farmhouse Beer
DESCRIPTION:\nhttps://nordiccenterduluth.org/events/norwegian-farmhouse-bee
 r-lecture-and-tasting/
URL:https://nordiccenterduluth.org/events/norwegian-farmhouse-beer-lecture-and-tasting/
END:VEVENT
END:VCALENDAR